BEGIN:VCALENDAR
VERSION:2.0
PRODID:-//German Road Races - ECPv6.15.18//NONSGML v1.0//EN
CALSCALE:GREGORIAN
METHOD:PUBLISH
X-ORIGINAL-URL:https://germanroadraces.de
X-WR-CALDESC:Veranstaltungen für German Road Races
REFRESH-INTERVAL;VALUE=DURATION:PT1H
X-Robots-Tag:noindex
X-PUBLISHED-TTL:PT1H
BEGIN:VTIMEZONE
TZID:Europe/Berlin
BEGIN:DAYLIGHT
TZOFFSETFROM:+0100
TZOFFSETTO:+0200
TZNAME:CEST
DTSTART:20230326T010000
END:DAYLIGHT
BEGIN:STANDARD
TZOFFSETFROM:+0200
TZOFFSETTO:+0100
TZNAME:CET
DTSTART:20231029T010000
END:STANDARD
BEGIN:DAYLIGHT
TZOFFSETFROM:+0100
TZOFFSETTO:+0200
TZNAME:CEST
DTSTART:20240331T010000
END:DAYLIGHT
BEGIN:STANDARD
TZOFFSETFROM:+0200
TZOFFSETTO:+0100
TZNAME:CET
DTSTART:20241027T010000
END:STANDARD
BEGIN:DAYLIGHT
TZOFFSETFROM:+0100
TZOFFSETTO:+0200
TZNAME:CEST
DTSTART:20250330T010000
END:DAYLIGHT
BEGIN:STANDARD
TZOFFSETFROM:+0200
TZOFFSETTO:+0100
TZNAME:CET
DTSTART:20251026T010000
END:STANDARD
END:VTIMEZONE
BEGIN:VEVENT
DTSTART;VALUE=DATE:20240908
DTEND;VALUE=DATE:20240909
DTSTAMP:20260423T175752
CREATED:20230725T082447Z
LAST-MODIFIED:20240304T175131Z
UID:218636-1725753600-1725839999@germanroadraces.de
SUMMARY:Volksbank-Münster-Marathon
DESCRIPTION:Marathon\, Staffelmarathon mit jeweils 4 Läufern\, 28 km
URL:https://germanroadraces.de/event/21-volksbank-muenster-marathon/
LOCATION:Münster\, Münster
CATEGORIES:Laufveranstaltung
END:VEVENT
BEGIN:VEVENT
DTSTART;VALUE=DATE:20240908
DTEND;VALUE=DATE:20240909
DTSTAMP:20260423T175752
CREATED:20230725T082723Z
LAST-MODIFIED:20240304T174903Z
UID:218640-1725753600-1725839999@germanroadraces.de
SUMMARY:Internationalen Airport Race
DESCRIPTION:10 Meilen-Lauf\, 5 km-Lauf\, Kinderlauf
URL:https://germanroadraces.de/event/40-internationalen-airport-race/
LOCATION:Hamburg\, Hamburg
CATEGORIES:Laufveranstaltung
END:VEVENT
BEGIN:VEVENT
DTSTART;VALUE=DATE:20240908
DTEND;VALUE=DATE:20240909
DTSTAMP:20260423T175752
CREATED:20240305T092325Z
LAST-MODIFIED:20240307T125455Z
UID:278754-1725753600-1725839999@germanroadraces.de
SUMMARY:Kiel.Lauf
DESCRIPTION:
URL:https://germanroadraces.de/event/kiel-lauf/
LOCATION:Kiel\, Kiel
CATEGORIES:Laufveranstaltung
END:VEVENT
END:VCALENDAR