BEGIN:VCALENDAR
VERSION:2.0
PRODID:-//German Road Races - ECPv6.15.18//NONSGML v1.0//EN
CALSCALE:GREGORIAN
METHOD:PUBLISH
X-ORIGINAL-URL:https://germanroadraces.de
X-WR-CALDESC:Veranstaltungen für German Road Races
REFRESH-INTERVAL;VALUE=DURATION:PT1H
X-Robots-Tag:noindex
X-PUBLISHED-TTL:PT1H
BEGIN:VTIMEZONE
TZID:Europe/Berlin
BEGIN:DAYLIGHT
TZOFFSETFROM:+0100
TZOFFSETTO:+0200
TZNAME:CEST
DTSTART:20230326T010000
END:DAYLIGHT
BEGIN:STANDARD
TZOFFSETFROM:+0200
TZOFFSETTO:+0100
TZNAME:CET
DTSTART:20231029T010000
END:STANDARD
BEGIN:DAYLIGHT
TZOFFSETFROM:+0100
TZOFFSETTO:+0200
TZNAME:CEST
DTSTART:20240331T010000
END:DAYLIGHT
BEGIN:STANDARD
TZOFFSETFROM:+0200
TZOFFSETTO:+0100
TZNAME:CET
DTSTART:20241027T010000
END:STANDARD
BEGIN:DAYLIGHT
TZOFFSETFROM:+0100
TZOFFSETTO:+0200
TZNAME:CEST
DTSTART:20250330T010000
END:DAYLIGHT
BEGIN:STANDARD
TZOFFSETFROM:+0200
TZOFFSETTO:+0100
TZNAME:CET
DTSTART:20251026T010000
END:STANDARD
END:VTIMEZONE
BEGIN:VEVENT
DTSTART;VALUE=DATE:20240929
DTEND;VALUE=DATE:20240930
DTSTAMP:20260423T175752
CREATED:20230725T090357Z
LAST-MODIFIED:20240304T173552Z
UID:218653-1727568000-1727654399@germanroadraces.de
SUMMARY:BMW Berlin-Marathon
DESCRIPTION:Marathon
URL:https://germanroadraces.de/event/bmw-berlin-marathon/
LOCATION:Berlin\, Berlin
CATEGORIES:Laufveranstaltung
END:VEVENT
BEGIN:VEVENT
DTSTART;VALUE=DATE:20240929
DTEND;VALUE=DATE:20240930
DTSTAMP:20260423T175752
CREATED:20230725T091729Z
LAST-MODIFIED:20240304T173143Z
UID:218657-1727568000-1727654399@germanroadraces.de
SUMMARY:Einstein-Marathon
DESCRIPTION:Marathon\, Halbmarathon\, Walking
URL:https://germanroadraces.de/event/17-ulm-neu-ulmer-einstein-marathon/
LOCATION:Ulm\, Ulm
CATEGORIES:Laufveranstaltung
END:VEVENT
END:VCALENDAR