BEGIN:VCALENDAR
VERSION:2.0
PRODID:-//German Road Races - ECPv6.15.18//NONSGML v1.0//EN
CALSCALE:GREGORIAN
METHOD:PUBLISH
X-WR-CALNAME:German Road Races
X-ORIGINAL-URL:https://germanroadraces.de
X-WR-CALDESC:Veranstaltungen für German Road Races
REFRESH-INTERVAL;VALUE=DURATION:PT1H
X-Robots-Tag:noindex
X-PUBLISHED-TTL:PT1H
BEGIN:VTIMEZONE
TZID:Europe/Berlin
BEGIN:DAYLIGHT
TZOFFSETFROM:+0100
TZOFFSETTO:+0200
TZNAME:CEST
DTSTART:20230326T010000
END:DAYLIGHT
BEGIN:STANDARD
TZOFFSETFROM:+0200
TZOFFSETTO:+0100
TZNAME:CET
DTSTART:20231029T010000
END:STANDARD
BEGIN:DAYLIGHT
TZOFFSETFROM:+0100
TZOFFSETTO:+0200
TZNAME:CEST
DTSTART:20240331T010000
END:DAYLIGHT
BEGIN:STANDARD
TZOFFSETFROM:+0200
TZOFFSETTO:+0100
TZNAME:CET
DTSTART:20241027T010000
END:STANDARD
BEGIN:DAYLIGHT
TZOFFSETFROM:+0100
TZOFFSETTO:+0200
TZNAME:CEST
DTSTART:20250330T010000
END:DAYLIGHT
BEGIN:STANDARD
TZOFFSETFROM:+0200
TZOFFSETTO:+0100
TZNAME:CET
DTSTART:20251026T010000
END:STANDARD
END:VTIMEZONE
BEGIN:VEVENT
DTSTART;VALUE=DATE:20241006
DTEND;VALUE=DATE:20241007
DTSTAMP:20260423T142824
CREATED:20230725T090436Z
LAST-MODIFIED:20240304T173345Z
UID:218655-1728172800-1728259199@germanroadraces.de
SUMMARY:Generali Köln Marathon
DESCRIPTION:Marathon\, Halbmarathon\, Staffelmarathon\, Kinderlauf
URL:https://germanroadraces.de/event/generali-koeln-marathon/
LOCATION:Köln\, Köln
CATEGORIES:Laufveranstaltung
END:VEVENT
BEGIN:VEVENT
DTSTART;VALUE=DATE:20241013
DTEND;VALUE=DATE:20241014
DTSTAMP:20260423T142824
CREATED:20230725T095559Z
LAST-MODIFIED:20240304T172726Z
UID:218659-1728777600-1728863999@germanroadraces.de
SUMMARY:Sparkasse Marathon der 3 Länder am Bodensee
DESCRIPTION:Marathon\, Halbmarathon\, Staffelmarathon\, Nordic-Walking
URL:https://germanroadraces.de/event/15-sparkasse-marathon-der-3-laender-am-bodensee/
LOCATION:Lindau\, Lindau
CATEGORIES:Laufveranstaltung
END:VEVENT
BEGIN:VEVENT
DTSTART;VALUE=DATE:20241013
DTEND;VALUE=DATE:20241014
DTSTAMP:20260423T142824
CREATED:20230725T095646Z
LAST-MODIFIED:20240304T172928Z
UID:218661-1728777600-1728863999@germanroadraces.de
SUMMARY:Generali München Marathon
DESCRIPTION:Marathon\, Halbmarathon\, 10 km-Lauf\, Marathonstaffel\, Trachtenlauf
URL:https://germanroadraces.de/event/generali-muenchen-marathon/
LOCATION:München\, München
CATEGORIES:Laufveranstaltung
END:VEVENT
BEGIN:VEVENT
DTSTART;VALUE=DATE:20241013
DTEND;VALUE=DATE:20241014
DTSTAMP:20260423T142824
CREATED:20230725T095802Z
LAST-MODIFIED:20240304T172325Z
UID:218665-1728777600-1728863999@germanroadraces.de
SUMMARY:Mitteldeutscher Marathon
DESCRIPTION:Marathon\, Halbmarathon\, 10 km-Lauf\, Staffellauf\, 3 km-Lauf\, Schnupperlauf 1 km Lauf\, Walking
URL:https://germanroadraces.de/event/19-mitteldeutscher-marathon/
LOCATION:Halle\, Halle
CATEGORIES:Laufveranstaltung
END:VEVENT
BEGIN:VEVENT
DTSTART;VALUE=DATE:20241013
DTEND;VALUE=DATE:20241014
DTSTAMP:20260423T142824
CREATED:20230725T095848Z
LAST-MODIFIED:20240304T172045Z
UID:218667-1728777600-1728863999@germanroadraces.de
SUMMARY:Westenergie Marathon Essen
DESCRIPTION:Marathon
URL:https://germanroadraces.de/event/61-westenergie-marathon-essen/
LOCATION:Essen\, Essen
CATEGORIES:Laufveranstaltung
END:VEVENT
BEGIN:VEVENT
DTSTART;VALUE=DATE:20241013
DTEND;VALUE=DATE:20241014
DTSTAMP:20260423T142824
CREATED:20230725T100011Z
LAST-MODIFIED:20240304T171847Z
UID:218671-1728777600-1728863999@germanroadraces.de
SUMMARY:Bottwartal-Marathon
DESCRIPTION:Marathon\, ¾ Marathon\, Halbmarathon\, 10km\, Duo-Marathon\, Team-Marathon (3)\, Staffel-Marathon (8)
URL:https://germanroadraces.de/event/17-bottwartal-marathon/
LOCATION:Steinheim\, Steinheim
CATEGORIES:Laufveranstaltung
END:VEVENT
BEGIN:VEVENT
DTSTART;VALUE=DATE:20241020
DTEND;VALUE=DATE:20241021
DTSTAMP:20260423T142824
CREATED:20230725T100142Z
LAST-MODIFIED:20240304T171650Z
UID:218673-1729382400-1729468799@germanroadraces.de
SUMMARY:AOK Müggelsee-Halbmarathon
DESCRIPTION:5 km-Lauf\, 10 km-Lauf\, Halbmarathon
URL:https://germanroadraces.de/event/aok-mueggelsee-halbmarathon/
LOCATION:Berlin\, Berlin
CATEGORIES:Laufveranstaltung
END:VEVENT
BEGIN:VEVENT
DTSTART;VALUE=DATE:20241027
DTEND;VALUE=DATE:20241028
DTSTAMP:20260423T142824
CREATED:20230725T100232Z
LAST-MODIFIED:20240304T171331Z
UID:218675-1729987200-1730073599@germanroadraces.de
SUMMARY:SwissCityMarathon
DESCRIPTION:Marathon\, DuoMarathon\, Halbmarathon\, 10 km
URL:https://germanroadraces.de/event/16-swisscitymarathon/
LOCATION:Lucerne\, Lucerne
CATEGORIES:Laufveranstaltung
END:VEVENT
END:VCALENDAR